BEGIN:VCALENDAR
VERSION:2.0
PRODID:-//Squarespace Inc/Squarespace 6//v6//EN
BEGIN:VEVENT
UID:5d98d459f191a54349984157@squarespace.com
DTSTAMP:20191005T174310Z
DTSTART:20191015T003000Z
DTEND:20191015T035900Z
SUMMARY:3 Vs. 3 Basketball Tournament
END:VEVENT
END:VCALENDAR
