BEGIN:VCALENDAR
VERSION:2.0
PRODID:-//Squarespace Inc/Squarespace 6//v6//EN
BEGIN:VEVENT
UID:5da620978f6b321b41ab976d@squarespace.com
DTSTAMP:20191015T194127Z
DTSTART:20191014T200000Z
DTEND:20191016T210000Z
SUMMARY:Golf Tournament
END:VEVENT
END:VCALENDAR
