BEGIN:VCALENDAR
VERSION:2.0
PRODID:-//Squarespace Inc/Squarespace 6//v6//EN
BEGIN:VEVENT
UID:5d98d2b27b7e4149180592f0@squarespace.com
DTSTAMP:20191005T174304Z
DTSTART:20191014T230000Z
DTEND:20191015T003000Z
SUMMARY:Midnight Madness
END:VEVENT
END:VCALENDAR
