BEGIN:VCALENDAR
VERSION:2.0
PRODID:-//Squarespace Inc/Squarespace 6//v6//EN
BEGIN:VEVENT
UID:5da6048b4b787230182348ff@squarespace.com
DTSTAMP:20191101T191328Z
DTSTART:20191114T230000Z
DTEND:20191115T013000Z
SUMMARY:Agriprenuer Website Workshop
END:VEVENT
END:VCALENDAR
