BEGIN:VCALENDAR
VERSION:2.0
PRODID:-//Squarespace Inc/Squarespace 6//v6//EN
BEGIN:VEVENT
UID:5da622fd212fb55bcb169df6@squarespace.com
DTSTAMP:20191015T195249Z
DTSTART:20191205T223000Z
DTEND:20191205T233000Z
SUMMARY:Women's Basketball Game (HOME)
END:VEVENT
END:VCALENDAR
