BEGIN:VCALENDAR
VERSION:2.0
PRODID:-//Squarespace Inc/Squarespace 6//v6//EN
BEGIN:VEVENT
UID:5da60820e87c0b55fe086dc9@squarespace.com
DTSTAMP:20191015T182515Z
DTSTART:20191017T193000Z
DTEND:20191017T203000Z
SUMMARY:Men's Soccer Game (HOME)
END:VEVENT
END:VCALENDAR
