BEGIN:VCALENDAR
VERSION:2.0
PRODID:-//Squarespace Inc/Squarespace 6//v6//EN
BEGIN:VEVENT
UID:5da61dfec24021357e7dd3fe@squarespace.com
DTSTAMP:20191015T193305Z
DTSTART:20191018T170000Z
DTEND:20191018T180000Z
SUMMARY:Cross Country Meet
END:VEVENT
END:VCALENDAR
