BEGIN:VCALENDAR
VERSION:2.0
PRODID:-//Squarespace Inc/Squarespace 6//v6//EN
BEGIN:VEVENT
UID:5da620f051997f787f980ad8@squarespace.com
DTSTAMP:20191015T194251Z
DTSTART:20191018T200000Z
DTEND:20191020T210000Z
SUMMARY:Golf Tournament
END:VEVENT
END:VCALENDAR
