BEGIN:VCALENDAR
VERSION:2.0
PRODID:-//Squarespace Inc/Squarespace 6//v6//EN
BEGIN:VEVENT
UID:5da628bf93569927fe6c3945@squarespace.com
DTSTAMP:20191015T201659Z
DTSTART:20191018T220000Z
DTEND:20191018T230000Z
SUMMARY:Women's Volleyball (AWAY)
END:VEVENT
END:VCALENDAR
