BEGIN:VCALENDAR
VERSION:2.0
PRODID:-//Squarespace Inc/Squarespace 6//v6//EN
BEGIN:VEVENT
UID:5da6285ef31d61657aad25f8@squarespace.com
DTSTAMP:20191015T201446Z
DTSTART:20191018T150000Z
DTEND:20191018T160000Z
SUMMARY:Women's Volleyball (AWAY)
END:VEVENT
END:VCALENDAR
