BEGIN:VCALENDAR
VERSION:2.0
PRODID:-//Squarespace Inc/Squarespace 6//v6//EN
BEGIN:VEVENT
UID:5da608885beea86f6aa69a9c@squarespace.com
DTSTAMP:20191015T182519Z
DTSTART:20191019T193000Z
DTEND:20191019T203000Z
SUMMARY:Men's Soccer Game (HOME)
END:VEVENT
END:VCALENDAR
