BEGIN:VCALENDAR
VERSION:2.0
PRODID:-//Squarespace Inc/Squarespace 6//v6//EN
BEGIN:VEVENT
UID:5da62942b942e26707066034@squarespace.com
DTSTAMP:20191015T201744Z
DTSTART:20191019T170000Z
DTEND:20191019T180000Z
SUMMARY:Women's Volleyball (AWAY)
END:VEVENT
END:VCALENDAR
