BEGIN:VCALENDAR
VERSION:2.0
PRODID:-//Squarespace Inc/Squarespace 6//v6//EN
BEGIN:VEVENT
UID:5da606ab5beea86f6aa66408@squarespace.com
DTSTAMP:20191015T182608Z
DTSTART:20191120T210000Z
DTEND:20191120T230000Z
SUMMARY:Research Day
END:VEVENT
END:VCALENDAR
