BEGIN:VCALENDAR
VERSION:2.0
PRODID:-//Squarespace Inc/Squarespace 6//v6//EN
BEGIN:VEVENT
UID:5da608c82d60a8227ce3becc@squarespace.com
DTSTAMP:20191015T182523Z
DTSTART:20191024T193000Z
DTEND:20191024T203000Z
SUMMARY:Men's Soccer Game (HOME)
END:VEVENT
END:VCALENDAR
