BEGIN:VCALENDAR
VERSION:2.0
PRODID:-//Squarespace Inc/Squarespace 6//v6//EN
BEGIN:VEVENT
UID:5db1fbc2c7a7c54b5b71c1b2@squarespace.com
DTSTAMP:20191024T193104Z
DTSTART:20191025T220000Z
DTEND:20191026T000000Z
SUMMARY:Neewollah
END:VEVENT
END:VCALENDAR
