BEGIN:VCALENDAR
VERSION:2.0
PRODID:-//Squarespace Inc/Squarespace 6//v6//EN
BEGIN:VEVENT
UID:5db32fed04a6f9482d4c701e@squarespace.com
DTSTAMP:20191025T172832Z
DTSTART:20191026T010000Z
DTEND:20191026T030000Z
SUMMARY:SGA Halloween Party
END:VEVENT
END:VCALENDAR
