BEGIN:VCALENDAR
VERSION:2.0
PRODID:-//Squarespace Inc/Squarespace 6//v6//EN
BEGIN:VEVENT
UID:5da6297215bfdf179a2a5430@squarespace.com
DTSTAMP:20191015T201834Z
DTSTART:20191025T230000Z
DTEND:20191026T000000Z
SUMMARY:Women's Volleyball (AWAY)
END:VEVENT
END:VCALENDAR
