BEGIN:VCALENDAR
VERSION:2.0
PRODID:-//Squarespace Inc/Squarespace 6//v6//EN
BEGIN:VEVENT
UID:5da61f009a2a66043ce9ab3c@squarespace.com
DTSTAMP:20191015T193517Z
DTSTART:20191026T170000Z
DTEND:20191026T180000Z
SUMMARY:Cross Country Meet
END:VEVENT
END:VCALENDAR
