BEGIN:VCALENDAR
VERSION:2.0
PRODID:-//Squarespace Inc/Squarespace 6//v6//EN
BEGIN:VEVENT
UID:5da6090f5beea86f6aa6a975@squarespace.com
DTSTAMP:20191015T182526Z
DTSTART:20191026T193000Z
DTEND:20191026T203000Z
SUMMARY:Men's Soccer Game (HOME)
END:VEVENT
END:VCALENDAR
