BEGIN:VCALENDAR
VERSION:2.0
PRODID:-//Squarespace Inc/Squarespace 6//v6//EN
BEGIN:VEVENT
UID:5da629a5d56c306e6d9d5529@squarespace.com
DTSTAMP:20191015T201915Z
DTSTART:20191026T170000Z
DTEND:20191026T180000Z
SUMMARY:Women's Volleyball (AWAY)
END:VEVENT
END:VCALENDAR
