BEGIN:VCALENDAR
VERSION:2.0
PRODID:-//Squarespace Inc/Squarespace 6//v6//EN
BEGIN:VEVENT
UID:5da6093b6f382a7421aafe44@squarespace.com
DTSTAMP:20191015T182531Z
DTSTART:20191031T223000Z
DTEND:20191031T233000Z
SUMMARY:Men's Soccer Game (AWAY)
END:VEVENT
END:VCALENDAR
