BEGIN:VCALENDAR
VERSION:2.0
PRODID:-//Squarespace Inc/Squarespace 6//v6//EN
BEGIN:VEVENT
UID:5d98d52a5cbb7d7c85a130ee@squarespace.com
DTSTAMP:20191015T174431Z
DTSTART:20191102T003000Z
DTEND:20191102T023000Z
SUMMARY:Haunted Trail
END:VEVENT
END:VCALENDAR
