BEGIN:VCALENDAR
VERSION:2.0
PRODID:-//Squarespace Inc/Squarespace 6//v6//EN
BEGIN:VEVENT
UID:5da629caf31d61657aad4dbf@squarespace.com
DTSTAMP:20191015T201951Z
DTSTART:20191101T230000Z
DTEND:20191102T000000Z
SUMMARY:Women's Volleyball (AWAY)
END:VEVENT
END:VCALENDAR
