BEGIN:VCALENDAR
VERSION:2.0
PRODID:-//Squarespace Inc/Squarespace 6//v6//EN
BEGIN:VEVENT
UID:5da609adf07b292a6b4e9a65@squarespace.com
DTSTAMP:20191015T182549Z
DTSTART:20191114T233000Z
DTEND:20191115T003000Z
SUMMARY:Men's Basketball (AWAY)
END:VEVENT
END:VCALENDAR
