BEGIN:VCALENDAR
VERSION:2.0
PRODID:-//Squarespace Inc/Squarespace 6//v6//EN
BEGIN:VEVENT
UID:5da605cae87c0b55fe0821f3@squarespace.com
DTSTAMP:20191015T182600Z
DTSTART:20191115T130000Z
DTEND:20191115T210000Z
SUMMARY:Encounter
END:VEVENT
END:VCALENDAR
