BEGIN:VCALENDAR
VERSION:2.0
PRODID:-//Squarespace Inc/Squarespace 6//v6//EN
BEGIN:VEVENT
UID:5da62a99f31d61657aad65aa@squarespace.com
DTSTAMP:20191015T202320Z
DTSTART:20191116T180000Z
DTEND:20191116T190000Z
SUMMARY:Women's Volleyball (HOME)
END:VEVENT
END:VCALENDAR
