BEGIN:VCALENDAR
VERSION:2.0
PRODID:-//Squarespace Inc/Squarespace 6//v6//EN
BEGIN:VEVENT
UID:5da609e9db369127d6461471@squarespace.com
DTSTAMP:20191015T182617Z
DTSTART:20191120T010000Z
DTEND:20191120T020000Z
SUMMARY:Men's Basketball (AWAY)
END:VEVENT
END:VCALENDAR
