BEGIN:VCALENDAR
VERSION:2.0
PRODID:-//Squarespace Inc/Squarespace 6//v6//EN
BEGIN:VEVENT
UID:5d98d5bd97e5945a3afd8480@squarespace.com
DTSTAMP:20191015T174449Z
DTSTART:20191103T003000Z
DTEND:20191103T023000Z
SUMMARY:Haunted Trail
END:VEVENT
END:VCALENDAR
