BEGIN:VCALENDAR
VERSION:2.0
PRODID:-//Squarespace Inc/Squarespace 6//v6//EN
BEGIN:VEVENT
UID:5da629efd56c306e6d9d5de6@squarespace.com
DTSTAMP:20191015T202024Z
DTSTART:20191102T170000Z
DTEND:20191102T180000Z
SUMMARY:Women's Volleyball (AWAY)
END:VEVENT
END:VCALENDAR
