BEGIN:VCALENDAR
VERSION:2.0
PRODID:-//Squarespace Inc/Squarespace 6//v6//EN
BEGIN:VEVENT
UID:5da60a0fd2634f3f17da0f70@squarespace.com
DTSTAMP:20191015T182620Z
DTSTART:20191123T003000Z
DTEND:20191123T013000Z
SUMMARY:Men's Basketball Game (AWAY)
END:VEVENT
END:VCALENDAR
