BEGIN:VCALENDAR
VERSION:2.0
PRODID:-//Squarespace Inc/Squarespace 6//v6//EN
BEGIN:VEVENT
UID:5da60a4eb7995e53498de599@squarespace.com
DTSTAMP:20191015T182625Z
DTSTART:20191123T190000Z
DTEND:20191123T200000Z
SUMMARY:Men's Basketball Game (AWAY)
END:VEVENT
END:VCALENDAR
