BEGIN:VCALENDAR
VERSION:2.0
PRODID:-//Squarespace Inc/Squarespace 6//v6//EN
BEGIN:VEVENT
UID:5da606ce9fcc9d705341fbd7@squarespace.com
DTSTAMP:20191015T182629Z
DTSTART:20191125T130000Z
DTEND:20191129T140000Z
SUMMARY:Thanksgiving Break
END:VEVENT
END:VCALENDAR
