BEGIN:VCALENDAR
VERSION:2.0
PRODID:-//Squarespace Inc/Squarespace 6//v6//EN
BEGIN:VEVENT
UID:5da60a77c1cf5076eb159863@squarespace.com
DTSTAMP:20191015T182632Z
DTSTART:20191128T000000Z
DTEND:20191128T010000Z
SUMMARY:Men's Basketball Game (AWAY)
END:VEVENT
END:VCALENDAR
