BEGIN:VCALENDAR
VERSION:2.0
PRODID:-//Squarespace Inc/Squarespace 6//v6//EN
BEGIN:VEVENT
UID:5da62a10aaca7850a9f9b59f@squarespace.com
DTSTAMP:20191015T202103Z
DTSTART:20191106T000000Z
DTEND:20191106T010000Z
SUMMARY:Women's Volleyball (HOME)
END:VEVENT
END:VCALENDAR
