BEGIN:VCALENDAR
VERSION:2.0
PRODID:-//Squarespace Inc/Squarespace 6//v6//EN
BEGIN:VEVENT
UID:5da6042c6a28385e2f2a930b@squarespace.com
DTSTAMP:20191015T182540Z
DTSTART:20191108T181500Z
DTEND:20191108T191500Z
SUMMARY:Vienna Indoor Aquaculture Ribbon Cutting
END:VEVENT
END:VCALENDAR
