BEGIN:VCALENDAR
VERSION:2.0
PRODID:-//Squarespace Inc/Squarespace 6//v6//EN
BEGIN:VEVENT
UID:5da62a38aaca7850a9f9ba9e@squarespace.com
DTSTAMP:20191015T202203Z
DTSTART:20191109T000000Z
DTEND:20191109T010000Z
SUMMARY:Women's Volleyball (HOME)
END:VEVENT
END:VCALENDAR
