BEGIN:VCALENDAR
VERSION:2.0
PRODID:-//Squarespace Inc/Squarespace 6//v6//EN
BEGIN:VEVENT
UID:5da61f859a2a66043ce9bb55@squarespace.com
DTSTAMP:20191015T193642Z
DTSTART:20191109T180000Z
DTEND:20191109T190000Z
SUMMARY:Cross Country Meet
END:VEVENT
END:VCALENDAR
