BEGIN:VCALENDAR
VERSION:2.0
PRODID:-//Squarespace Inc/Squarespace 6//v6//EN
BEGIN:VEVENT
UID:5da62a736231022a346e7da3@squarespace.com
DTSTAMP:20191015T202242Z
DTSTART:20191109T180000Z
DTEND:20191109T190000Z
SUMMARY:Women's Volleyball (HOME)
END:VEVENT
END:VCALENDAR
