BEGIN:VCALENDAR
VERSION:2.0
PRODID:-//Squarespace Inc/Squarespace 6//v6//EN
BEGIN:VEVENT
UID:5da607b52d60a8227ce3a0ec@squarespace.com
DTSTAMP:20191015T182649Z
DTSTART:20191213T160000Z
DTEND:20191213T170000Z
SUMMARY:OVU Graduation
END:VEVENT
END:VCALENDAR
