BEGIN:VCALENDAR
VERSION:2.0
PRODID:-//Squarespace Inc/Squarespace 6//v6//EN
BEGIN:VEVENT
UID:5da607fecdc7782ea2888276@squarespace.com
DTSTAMP:20191015T182653Z
DTSTART:20191213T190000Z
DTEND:20191213T200000Z
SUMMARY:Residence Halls Close
END:VEVENT
END:VCALENDAR
