BEGIN:VCALENDAR
VERSION:2.0
PRODID:-//Squarespace Inc/Squarespace 6//v6//EN
BEGIN:VEVENT
UID:5da60b02b7995e53498dfc97@squarespace.com
DTSTAMP:20191015T182657Z
DTSTART:20191214T180000Z
DTEND:20191214T190000Z
SUMMARY:Men's Basketball Game (AWAY)
END:VEVENT
END:VCALENDAR
