BEGIN:VCALENDAR
VERSION:2.0
PRODID:-//Squarespace Inc/Squarespace 6//v6//EN
BEGIN:VEVENT
UID:5da624fbd56c306e6d9cc08f@squarespace.com
DTSTAMP:20191015T200013Z
DTSTART:20191216T223000Z
DTEND:20191216T233000Z
SUMMARY:Women's Basketball Game (AWAY)
END:VEVENT
END:VCALENDAR
