BEGIN:VCALENDAR
VERSION:2.0
PRODID:-//Squarespace Inc/Squarespace 6//v6//EN
BEGIN:VEVENT
UID:5da625566231022a346ddf56@squarespace.com
DTSTAMP:20191015T201607Z
DTSTART:20191219T223000Z
DTEND:20191219T233000Z
SUMMARY:Women's Basketball Game (AWAY)
END:VEVENT
END:VCALENDAR
