BEGIN:VCALENDAR
VERSION:2.0
PRODID:-//Squarespace Inc/Squarespace 6//v6//EN
BEGIN:VEVENT
UID:5da607359fcc9d70534206ad@squarespace.com
DTSTAMP:20191015T182635Z
DTSTART:20191204T000000Z
DTEND:20191204T020000Z
SUMMARY:Winter Concert
END:VEVENT
END:VCALENDAR
