BEGIN:VCALENDAR
VERSION:2.0
PRODID:-//Squarespace Inc/Squarespace 6//v6//EN
BEGIN:VEVENT
UID:5da621f7399f9e1c76053a87@squarespace.com
DTSTAMP:20191015T195013Z
DTSTART:20191203T223000Z
DTEND:20191203T233000Z
SUMMARY:Women's Basketball Game (HOME)
END:VEVENT
END:VCALENDAR
