BEGIN:VCALENDAR
VERSION:2.0
PRODID:-//Squarespace Inc/Squarespace 6//v6//EN
BEGIN:VEVENT
UID:5dd42b037e81df5ae6677ea1@squarespace.com
DTSTAMP:20191119T174929Z
DTSTART:20191205T180000Z
DTEND:20191205T190000Z
SUMMARY:Alpha Chi Induction
END:VEVENT
END:VCALENDAR
