BEGIN:VCALENDAR
VERSION:2.0
PRODID:-//Squarespace Inc/Squarespace 6//v6//EN
BEGIN:VEVENT
UID:5dc1dafa9c1fb0416c19f943@squarespace.com
DTSTAMP:20191105T203241Z
DTSTART:20191205T180000Z
DTEND:20191205T190000Z
SUMMARY:Alpha Chi Induction Ceremony 
END:VEVENT
END:VCALENDAR
