BEGIN:VCALENDAR
VERSION:2.0
PRODID:-//Squarespace Inc/Squarespace 6//v6//EN
BEGIN:VEVENT
UID:5da60a9fbaa080225750d8ff@squarespace.com
DTSTAMP:20191015T182639Z
DTSTART:20191206T003000Z
DTEND:20191206T013000Z
SUMMARY:Men's Basketball Game (HOME)
END:VEVENT
END:VCALENDAR
