BEGIN:VCALENDAR
VERSION:2.0
PRODID:-//Squarespace Inc/Squarespace 6//v6//EN
BEGIN:VEVENT
UID:5da60ac890b4c837c48ae17b@squarespace.com
DTSTAMP:20191015T182642Z
DTSTART:20191207T200000Z
DTEND:20191207T210000Z
SUMMARY:Men's Basketball Game (HOME)
END:VEVENT
END:VCALENDAR
