BEGIN:VCALENDAR
VERSION:2.0
PRODID:-//Squarespace Inc/Squarespace 6//v6//EN
BEGIN:VEVENT
UID:5dbc858a26919a08a21101df@squarespace.com
DTSTAMP:20191101T192339Z
DTSTART:20191208T000000Z
DTEND:20191208T010000Z
SUMMARY:Stepping Stones Christmas Dinner Auction
END:VEVENT
END:VCALENDAR
